BEGIN:VCALENDAR
VERSION:2.0
PRODID:-//Harbertonford Village Hall - ECPv6.15.20//NONSGML v1.0//EN
CALSCALE:GREGORIAN
METHOD:PUBLISH
X-ORIGINAL-URL:https://harbertonfordvillagehall.co.uk
X-WR-CALDESC:Events for Harbertonford Village Hall
REFRESH-INTERVAL;VALUE=DURATION:PT1H
X-Robots-Tag:noindex
X-PUBLISHED-TTL:PT1H
BEGIN:VTIMEZONE
TZID:Europe/London
BEGIN:DAYLIGHT
TZOFFSETFROM:+0000
TZOFFSETTO:+0100
TZNAME:BST
DTSTART:20250330T010000
END:DAYLIGHT
BEGIN:STANDARD
TZOFFSETFROM:+0100
TZOFFSETTO:+0000
TZNAME:GMT
DTSTART:20251026T010000
END:STANDARD
BEGIN:DAYLIGHT
TZOFFSETFROM:+0000
TZOFFSETTO:+0100
TZNAME:BST
DTSTART:20260329T010000
END:DAYLIGHT
BEGIN:STANDARD
TZOFFSETFROM:+0100
TZOFFSETTO:+0000
TZNAME:GMT
DTSTART:20261025T010000
END:STANDARD
BEGIN:DAYLIGHT
TZOFFSETFROM:+0000
TZOFFSETTO:+0100
TZNAME:BST
DTSTART:20270328T010000
END:DAYLIGHT
BEGIN:STANDARD
TZOFFSETFROM:+0100
TZOFFSETTO:+0000
TZNAME:GMT
DTSTART:20271031T010000
END:STANDARD
END:VTIMEZONE
BEGIN:VEVENT
DTSTART;TZID=Europe/London:20261002T193000
DTEND;TZID=Europe/London:20261002T230000
DTSTAMP:20260419T143403
CREATED:20260226T123253Z
LAST-MODIFIED:20260331T112139Z
UID:10000032-1790969400-1790982000@harbertonfordvillagehall.co.uk
SUMMARY:Village Bar (Friday Nights)
DESCRIPTION:A reminder that the Village Hall bar is open every Friday from 7.30 PM.  All welcome.\nThe bar can now accept card payments as well as cash
URL:https://harbertonfordvillagehall.co.uk/event/village-bar-friday-nights/2026-10-02/
LOCATION:Harbertonford Village Hall\, Harbertonford\, Devon\, United Kingdom
CATEGORIES:Public
ATTACH;FMTTYPE=image/webp:https://harbertonfordvillagehall.co.uk/wp-content/uploads/2026/02/bar-nightbarnight-16-copy.webp
END:VEVENT
BEGIN:VEVENT
DTSTART;TZID=Europe/London:20261004T190000
DTEND;TZID=Europe/London:20261004T210000
DTSTAMP:20260419T143403
CREATED:20260226T131934Z
LAST-MODIFIED:20260226T140724Z
UID:10000554-1791140400-1791147600@harbertonfordvillagehall.co.uk
SUMMARY:Skittles (Every Sunday Evening)
DESCRIPTION:All are welcome. \nCost: £2 cash (inc. coffee/tea & biscuits). Info: John (732588).
URL:https://harbertonfordvillagehall.co.uk/event/skittles-every-sunday-evening/2026-10-04/
LOCATION:Harbertonford Village Hall\, Harbertonford\, Devon\, United Kingdom
CATEGORIES:Public
ATTACH;FMTTYPE=image/jpeg:https://harbertonfordvillagehall.co.uk/wp-content/uploads/2023/02/WSkittles.jpg
END:VEVENT
BEGIN:VEVENT
DTSTART;TZID=Europe/London:20261009T193000
DTEND;TZID=Europe/London:20261009T230000
DTSTAMP:20260419T143403
CREATED:20260226T123253Z
LAST-MODIFIED:20260331T112139Z
UID:10000033-1791574200-1791586800@harbertonfordvillagehall.co.uk
SUMMARY:Village Bar (Friday Nights)
DESCRIPTION:A reminder that the Village Hall bar is open every Friday from 7.30 PM.  All welcome.\nThe bar can now accept card payments as well as cash
URL:https://harbertonfordvillagehall.co.uk/event/village-bar-friday-nights/2026-10-09/
LOCATION:Harbertonford Village Hall\, Harbertonford\, Devon\, United Kingdom
CATEGORIES:Public
ATTACH;FMTTYPE=image/webp:https://harbertonfordvillagehall.co.uk/wp-content/uploads/2026/02/bar-nightbarnight-16-copy.webp
END:VEVENT
BEGIN:VEVENT
DTSTART;TZID=Europe/London:20261011T190000
DTEND;TZID=Europe/London:20261011T210000
DTSTAMP:20260419T143403
CREATED:20260226T131934Z
LAST-MODIFIED:20260226T140724Z
UID:10000555-1791745200-1791752400@harbertonfordvillagehall.co.uk
SUMMARY:Skittles (Every Sunday Evening)
DESCRIPTION:All are welcome. \nCost: £2 cash (inc. coffee/tea & biscuits). Info: John (732588).
URL:https://harbertonfordvillagehall.co.uk/event/skittles-every-sunday-evening/2026-10-11/
LOCATION:Harbertonford Village Hall\, Harbertonford\, Devon\, United Kingdom
CATEGORIES:Public
ATTACH;FMTTYPE=image/jpeg:https://harbertonfordvillagehall.co.uk/wp-content/uploads/2023/02/WSkittles.jpg
END:VEVENT
BEGIN:VEVENT
DTSTART;TZID=Europe/London:20261016T193000
DTEND;TZID=Europe/London:20261016T230000
DTSTAMP:20260419T143403
CREATED:20260226T123253Z
LAST-MODIFIED:20260331T112139Z
UID:10000034-1792179000-1792191600@harbertonfordvillagehall.co.uk
SUMMARY:Village Bar (Friday Nights)
DESCRIPTION:A reminder that the Village Hall bar is open every Friday from 7.30 PM.  All welcome.\nThe bar can now accept card payments as well as cash
URL:https://harbertonfordvillagehall.co.uk/event/village-bar-friday-nights/2026-10-16/
LOCATION:Harbertonford Village Hall\, Harbertonford\, Devon\, United Kingdom
CATEGORIES:Public
ATTACH;FMTTYPE=image/webp:https://harbertonfordvillagehall.co.uk/wp-content/uploads/2026/02/bar-nightbarnight-16-copy.webp
END:VEVENT
BEGIN:VEVENT
DTSTART;TZID=Europe/London:20261018T190000
DTEND;TZID=Europe/London:20261018T210000
DTSTAMP:20260419T143403
CREATED:20260226T131934Z
LAST-MODIFIED:20260226T140724Z
UID:10000556-1792350000-1792357200@harbertonfordvillagehall.co.uk
SUMMARY:Skittles (Every Sunday Evening)
DESCRIPTION:All are welcome. \nCost: £2 cash (inc. coffee/tea & biscuits). Info: John (732588).
URL:https://harbertonfordvillagehall.co.uk/event/skittles-every-sunday-evening/2026-10-18/
LOCATION:Harbertonford Village Hall\, Harbertonford\, Devon\, United Kingdom
CATEGORIES:Public
ATTACH;FMTTYPE=image/jpeg:https://harbertonfordvillagehall.co.uk/wp-content/uploads/2023/02/WSkittles.jpg
END:VEVENT
BEGIN:VEVENT
DTSTART;TZID=Europe/London:20261023T193000
DTEND;TZID=Europe/London:20261023T230000
DTSTAMP:20260419T143403
CREATED:20260226T123253Z
LAST-MODIFIED:20260331T112139Z
UID:10000035-1792783800-1792796400@harbertonfordvillagehall.co.uk
SUMMARY:Village Bar (Friday Nights)
DESCRIPTION:A reminder that the Village Hall bar is open every Friday from 7.30 PM.  All welcome.\nThe bar can now accept card payments as well as cash
URL:https://harbertonfordvillagehall.co.uk/event/village-bar-friday-nights/2026-10-23/
LOCATION:Harbertonford Village Hall\, Harbertonford\, Devon\, United Kingdom
CATEGORIES:Public
ATTACH;FMTTYPE=image/webp:https://harbertonfordvillagehall.co.uk/wp-content/uploads/2026/02/bar-nightbarnight-16-copy.webp
END:VEVENT
BEGIN:VEVENT
DTSTART;TZID=Europe/London:20261025T190000
DTEND;TZID=Europe/London:20261025T210000
DTSTAMP:20260419T143403
CREATED:20260226T131934Z
LAST-MODIFIED:20260226T140724Z
UID:10000557-1792954800-1792962000@harbertonfordvillagehall.co.uk
SUMMARY:Skittles (Every Sunday Evening)
DESCRIPTION:All are welcome. \nCost: £2 cash (inc. coffee/tea & biscuits). Info: John (732588).
URL:https://harbertonfordvillagehall.co.uk/event/skittles-every-sunday-evening/2026-10-25/
LOCATION:Harbertonford Village Hall\, Harbertonford\, Devon\, United Kingdom
CATEGORIES:Public
ATTACH;FMTTYPE=image/jpeg:https://harbertonfordvillagehall.co.uk/wp-content/uploads/2023/02/WSkittles.jpg
END:VEVENT
BEGIN:VEVENT
DTSTART;TZID=Europe/London:20261030T193000
DTEND;TZID=Europe/London:20261030T230000
DTSTAMP:20260419T143403
CREATED:20260226T123253Z
LAST-MODIFIED:20260331T112139Z
UID:10000036-1793388600-1793401200@harbertonfordvillagehall.co.uk
SUMMARY:Village Bar (Friday Nights)
DESCRIPTION:A reminder that the Village Hall bar is open every Friday from 7.30 PM.  All welcome.\nThe bar can now accept card payments as well as cash
URL:https://harbertonfordvillagehall.co.uk/event/village-bar-friday-nights/2026-10-30/
LOCATION:Harbertonford Village Hall\, Harbertonford\, Devon\, United Kingdom
CATEGORIES:Public
ATTACH;FMTTYPE=image/webp:https://harbertonfordvillagehall.co.uk/wp-content/uploads/2026/02/bar-nightbarnight-16-copy.webp
END:VEVENT
END:VCALENDAR