BEGIN:VCALENDAR
VERSION:2.0
PRODID:-//Harbertonford Village Hall - ECPv6.15.20//NONSGML v1.0//EN
CALSCALE:GREGORIAN
METHOD:PUBLISH
X-WR-CALNAME:Harbertonford Village Hall
X-ORIGINAL-URL:https://harbertonfordvillagehall.co.uk
X-WR-CALDESC:Events for Harbertonford Village Hall
REFRESH-INTERVAL;VALUE=DURATION:PT1H
X-Robots-Tag:noindex
X-PUBLISHED-TTL:PT1H
BEGIN:VTIMEZONE
TZID:Europe/London
BEGIN:DAYLIGHT
TZOFFSETFROM:+0000
TZOFFSETTO:+0100
TZNAME:BST
DTSTART:20270328T010000
END:DAYLIGHT
BEGIN:STANDARD
TZOFFSETFROM:+0100
TZOFFSETTO:+0000
TZNAME:GMT
DTSTART:20271031T010000
END:STANDARD
BEGIN:DAYLIGHT
TZOFFSETFROM:+0000
TZOFFSETTO:+0100
TZNAME:BST
DTSTART:20280326T010000
END:DAYLIGHT
BEGIN:STANDARD
TZOFFSETFROM:+0100
TZOFFSETTO:+0000
TZNAME:GMT
DTSTART:20281029T010000
END:STANDARD
BEGIN:DAYLIGHT
TZOFFSETFROM:+0000
TZOFFSETTO:+0100
TZNAME:BST
DTSTART:20290325T010000
END:DAYLIGHT
BEGIN:STANDARD
TZOFFSETFROM:+0100
TZOFFSETTO:+0000
TZNAME:GMT
DTSTART:20291028T010000
END:STANDARD
END:VTIMEZONE
BEGIN:VEVENT
DTSTART;TZID=Europe/London:20280702T190000
DTEND;TZID=Europe/London:20280702T210000
DTSTAMP:20260424T083915
CREATED:20260226T131934Z
LAST-MODIFIED:20260226T140724Z
UID:10000645-1846177200-1846184400@harbertonfordvillagehall.co.uk
SUMMARY:Skittles (Every Sunday Evening)
DESCRIPTION:All are welcome. \nCost: £2 cash (inc. coffee/tea & biscuits). Info: John (732588).
URL:https://harbertonfordvillagehall.co.uk/event/skittles-every-sunday-evening/2028-07-02/
LOCATION:Harbertonford Village Hall\, Harbertonford\, Devon\, United Kingdom
CATEGORIES:Public
ATTACH;FMTTYPE=image/jpeg:https://harbertonfordvillagehall.co.uk/wp-content/uploads/2023/02/WSkittles.jpg
END:VEVENT
BEGIN:VEVENT
DTSTART;TZID=Europe/London:20280707T193000
DTEND;TZID=Europe/London:20280707T230000
DTSTAMP:20260424T083915
CREATED:20260226T123253Z
LAST-MODIFIED:20260331T112139Z
UID:10000124-1846611000-1846623600@harbertonfordvillagehall.co.uk
SUMMARY:Village Bar (Friday Nights)
DESCRIPTION:A reminder that the Village Hall bar is open every Friday from 7.30 PM.  All welcome.\nThe bar can now accept card payments as well as cash
URL:https://harbertonfordvillagehall.co.uk/event/village-bar-friday-nights/2028-07-07/
LOCATION:Harbertonford Village Hall\, Harbertonford\, Devon\, United Kingdom
CATEGORIES:Public
ATTACH;FMTTYPE=image/webp:https://harbertonfordvillagehall.co.uk/wp-content/uploads/2026/02/bar-nightbarnight-16-copy.webp
END:VEVENT
BEGIN:VEVENT
DTSTART;TZID=Europe/London:20280709T190000
DTEND;TZID=Europe/London:20280709T210000
DTSTAMP:20260424T083915
CREATED:20260226T131934Z
LAST-MODIFIED:20260226T140724Z
UID:10000646-1846782000-1846789200@harbertonfordvillagehall.co.uk
SUMMARY:Skittles (Every Sunday Evening)
DESCRIPTION:All are welcome. \nCost: £2 cash (inc. coffee/tea & biscuits). Info: John (732588).
URL:https://harbertonfordvillagehall.co.uk/event/skittles-every-sunday-evening/2028-07-09/
LOCATION:Harbertonford Village Hall\, Harbertonford\, Devon\, United Kingdom
CATEGORIES:Public
ATTACH;FMTTYPE=image/jpeg:https://harbertonfordvillagehall.co.uk/wp-content/uploads/2023/02/WSkittles.jpg
END:VEVENT
BEGIN:VEVENT
DTSTART;TZID=Europe/London:20280714T193000
DTEND;TZID=Europe/London:20280714T230000
DTSTAMP:20260424T083915
CREATED:20260226T123253Z
LAST-MODIFIED:20260331T112139Z
UID:10000125-1847215800-1847228400@harbertonfordvillagehall.co.uk
SUMMARY:Village Bar (Friday Nights)
DESCRIPTION:A reminder that the Village Hall bar is open every Friday from 7.30 PM.  All welcome.\nThe bar can now accept card payments as well as cash
URL:https://harbertonfordvillagehall.co.uk/event/village-bar-friday-nights/2028-07-14/
LOCATION:Harbertonford Village Hall\, Harbertonford\, Devon\, United Kingdom
CATEGORIES:Public
ATTACH;FMTTYPE=image/webp:https://harbertonfordvillagehall.co.uk/wp-content/uploads/2026/02/bar-nightbarnight-16-copy.webp
END:VEVENT
BEGIN:VEVENT
DTSTART;TZID=Europe/London:20280716T190000
DTEND;TZID=Europe/London:20280716T210000
DTSTAMP:20260424T083915
CREATED:20260226T131934Z
LAST-MODIFIED:20260226T140724Z
UID:10000647-1847386800-1847394000@harbertonfordvillagehall.co.uk
SUMMARY:Skittles (Every Sunday Evening)
DESCRIPTION:All are welcome. \nCost: £2 cash (inc. coffee/tea & biscuits). Info: John (732588).
URL:https://harbertonfordvillagehall.co.uk/event/skittles-every-sunday-evening/2028-07-16/
LOCATION:Harbertonford Village Hall\, Harbertonford\, Devon\, United Kingdom
CATEGORIES:Public
ATTACH;FMTTYPE=image/jpeg:https://harbertonfordvillagehall.co.uk/wp-content/uploads/2023/02/WSkittles.jpg
END:VEVENT
BEGIN:VEVENT
DTSTART;TZID=Europe/London:20280721T193000
DTEND;TZID=Europe/London:20280721T230000
DTSTAMP:20260424T083915
CREATED:20260226T123253Z
LAST-MODIFIED:20260331T112139Z
UID:10000126-1847820600-1847833200@harbertonfordvillagehall.co.uk
SUMMARY:Village Bar (Friday Nights)
DESCRIPTION:A reminder that the Village Hall bar is open every Friday from 7.30 PM.  All welcome.\nThe bar can now accept card payments as well as cash
URL:https://harbertonfordvillagehall.co.uk/event/village-bar-friday-nights/2028-07-21/
LOCATION:Harbertonford Village Hall\, Harbertonford\, Devon\, United Kingdom
CATEGORIES:Public
ATTACH;FMTTYPE=image/webp:https://harbertonfordvillagehall.co.uk/wp-content/uploads/2026/02/bar-nightbarnight-16-copy.webp
END:VEVENT
BEGIN:VEVENT
DTSTART;TZID=Europe/London:20280723T190000
DTEND;TZID=Europe/London:20280723T210000
DTSTAMP:20260424T083915
CREATED:20260226T131934Z
LAST-MODIFIED:20260226T140724Z
UID:10000648-1847991600-1847998800@harbertonfordvillagehall.co.uk
SUMMARY:Skittles (Every Sunday Evening)
DESCRIPTION:All are welcome. \nCost: £2 cash (inc. coffee/tea & biscuits). Info: John (732588).
URL:https://harbertonfordvillagehall.co.uk/event/skittles-every-sunday-evening/2028-07-23/
LOCATION:Harbertonford Village Hall\, Harbertonford\, Devon\, United Kingdom
CATEGORIES:Public
ATTACH;FMTTYPE=image/jpeg:https://harbertonfordvillagehall.co.uk/wp-content/uploads/2023/02/WSkittles.jpg
END:VEVENT
BEGIN:VEVENT
DTSTART;TZID=Europe/London:20280728T193000
DTEND;TZID=Europe/London:20280728T230000
DTSTAMP:20260424T083915
CREATED:20260226T123253Z
LAST-MODIFIED:20260331T112139Z
UID:10000127-1848425400-1848438000@harbertonfordvillagehall.co.uk
SUMMARY:Village Bar (Friday Nights)
DESCRIPTION:A reminder that the Village Hall bar is open every Friday from 7.30 PM.  All welcome.\nThe bar can now accept card payments as well as cash
URL:https://harbertonfordvillagehall.co.uk/event/village-bar-friday-nights/2028-07-28/
LOCATION:Harbertonford Village Hall\, Harbertonford\, Devon\, United Kingdom
CATEGORIES:Public
ATTACH;FMTTYPE=image/webp:https://harbertonfordvillagehall.co.uk/wp-content/uploads/2026/02/bar-nightbarnight-16-copy.webp
END:VEVENT
BEGIN:VEVENT
DTSTART;TZID=Europe/London:20280730T190000
DTEND;TZID=Europe/London:20280730T210000
DTSTAMP:20260424T083915
CREATED:20260226T131934Z
LAST-MODIFIED:20260226T140724Z
UID:10000649-1848596400-1848603600@harbertonfordvillagehall.co.uk
SUMMARY:Skittles (Every Sunday Evening)
DESCRIPTION:All are welcome. \nCost: £2 cash (inc. coffee/tea & biscuits). Info: John (732588).
URL:https://harbertonfordvillagehall.co.uk/event/skittles-every-sunday-evening/2028-07-30/
LOCATION:Harbertonford Village Hall\, Harbertonford\, Devon\, United Kingdom
CATEGORIES:Public
ATTACH;FMTTYPE=image/jpeg:https://harbertonfordvillagehall.co.uk/wp-content/uploads/2023/02/WSkittles.jpg
END:VEVENT
END:VCALENDAR