BEGIN:VCALENDAR
VERSION:2.0
PRODID:-//Harbertonford Village Hall - ECPv6.15.20//NONSGML v1.0//EN
CALSCALE:GREGORIAN
METHOD:PUBLISH
X-WR-CALNAME:Harbertonford Village Hall
X-ORIGINAL-URL:https://harbertonfordvillagehall.co.uk
X-WR-CALDESC:Events for Harbertonford Village Hall
REFRESH-INTERVAL;VALUE=DURATION:PT1H
X-Robots-Tag:noindex
X-PUBLISHED-TTL:PT1H
BEGIN:VTIMEZONE
TZID:Europe/London
BEGIN:DAYLIGHT
TZOFFSETFROM:+0000
TZOFFSETTO:+0100
TZNAME:BST
DTSTART:20260329T010000
END:DAYLIGHT
BEGIN:STANDARD
TZOFFSETFROM:+0100
TZOFFSETTO:+0000
TZNAME:GMT
DTSTART:20261025T010000
END:STANDARD
BEGIN:DAYLIGHT
TZOFFSETFROM:+0000
TZOFFSETTO:+0100
TZNAME:BST
DTSTART:20270328T010000
END:DAYLIGHT
BEGIN:STANDARD
TZOFFSETFROM:+0100
TZOFFSETTO:+0000
TZNAME:GMT
DTSTART:20271031T010000
END:STANDARD
BEGIN:DAYLIGHT
TZOFFSETFROM:+0000
TZOFFSETTO:+0100
TZNAME:BST
DTSTART:20280326T010000
END:DAYLIGHT
BEGIN:STANDARD
TZOFFSETFROM:+0100
TZOFFSETTO:+0000
TZNAME:GMT
DTSTART:20281029T010000
END:STANDARD
END:VTIMEZONE
BEGIN:VEVENT
DTSTART;TZID=Europe/London:20271105T193000
DTEND;TZID=Europe/London:20271105T230000
DTSTAMP:20260420T215632
CREATED:20260226T123253Z
LAST-MODIFIED:20260331T112139Z
UID:10000089-1825443000-1825455600@harbertonfordvillagehall.co.uk
SUMMARY:Village Bar (Friday Nights)
DESCRIPTION:A reminder that the Village Hall bar is open every Friday from 7.30 PM.  All welcome.\nThe bar can now accept card payments as well as cash
URL:https://harbertonfordvillagehall.co.uk/event/village-bar-friday-nights/2027-11-05/
LOCATION:Harbertonford Village Hall\, Harbertonford\, Devon\, United Kingdom
CATEGORIES:Public
ATTACH;FMTTYPE=image/webp:https://harbertonfordvillagehall.co.uk/wp-content/uploads/2026/02/bar-nightbarnight-16-copy.webp
END:VEVENT
BEGIN:VEVENT
DTSTART;TZID=Europe/London:20271107T190000
DTEND;TZID=Europe/London:20271107T210000
DTSTAMP:20260420T215632
CREATED:20260226T131934Z
LAST-MODIFIED:20260226T140724Z
UID:10000611-1825614000-1825621200@harbertonfordvillagehall.co.uk
SUMMARY:Skittles (Every Sunday Evening)
DESCRIPTION:All are welcome. \nCost: £2 cash (inc. coffee/tea & biscuits). Info: John (732588).
URL:https://harbertonfordvillagehall.co.uk/event/skittles-every-sunday-evening/2027-11-07/
LOCATION:Harbertonford Village Hall\, Harbertonford\, Devon\, United Kingdom
CATEGORIES:Public
ATTACH;FMTTYPE=image/jpeg:https://harbertonfordvillagehall.co.uk/wp-content/uploads/2023/02/WSkittles.jpg
END:VEVENT
BEGIN:VEVENT
DTSTART;TZID=Europe/London:20271112T193000
DTEND;TZID=Europe/London:20271112T230000
DTSTAMP:20260420T215632
CREATED:20260226T123253Z
LAST-MODIFIED:20260331T112139Z
UID:10000090-1826047800-1826060400@harbertonfordvillagehall.co.uk
SUMMARY:Village Bar (Friday Nights)
DESCRIPTION:A reminder that the Village Hall bar is open every Friday from 7.30 PM.  All welcome.\nThe bar can now accept card payments as well as cash
URL:https://harbertonfordvillagehall.co.uk/event/village-bar-friday-nights/2027-11-12/
LOCATION:Harbertonford Village Hall\, Harbertonford\, Devon\, United Kingdom
CATEGORIES:Public
ATTACH;FMTTYPE=image/webp:https://harbertonfordvillagehall.co.uk/wp-content/uploads/2026/02/bar-nightbarnight-16-copy.webp
END:VEVENT
BEGIN:VEVENT
DTSTART;TZID=Europe/London:20271114T190000
DTEND;TZID=Europe/London:20271114T210000
DTSTAMP:20260420T215632
CREATED:20260226T131934Z
LAST-MODIFIED:20260226T140724Z
UID:10000612-1826218800-1826226000@harbertonfordvillagehall.co.uk
SUMMARY:Skittles (Every Sunday Evening)
DESCRIPTION:All are welcome. \nCost: £2 cash (inc. coffee/tea & biscuits). Info: John (732588).
URL:https://harbertonfordvillagehall.co.uk/event/skittles-every-sunday-evening/2027-11-14/
LOCATION:Harbertonford Village Hall\, Harbertonford\, Devon\, United Kingdom
CATEGORIES:Public
ATTACH;FMTTYPE=image/jpeg:https://harbertonfordvillagehall.co.uk/wp-content/uploads/2023/02/WSkittles.jpg
END:VEVENT
BEGIN:VEVENT
DTSTART;TZID=Europe/London:20271119T193000
DTEND;TZID=Europe/London:20271119T230000
DTSTAMP:20260420T215632
CREATED:20260226T123253Z
LAST-MODIFIED:20260331T112139Z
UID:10000091-1826652600-1826665200@harbertonfordvillagehall.co.uk
SUMMARY:Village Bar (Friday Nights)
DESCRIPTION:A reminder that the Village Hall bar is open every Friday from 7.30 PM.  All welcome.\nThe bar can now accept card payments as well as cash
URL:https://harbertonfordvillagehall.co.uk/event/village-bar-friday-nights/2027-11-19/
LOCATION:Harbertonford Village Hall\, Harbertonford\, Devon\, United Kingdom
CATEGORIES:Public
ATTACH;FMTTYPE=image/webp:https://harbertonfordvillagehall.co.uk/wp-content/uploads/2026/02/bar-nightbarnight-16-copy.webp
END:VEVENT
BEGIN:VEVENT
DTSTART;TZID=Europe/London:20271121T190000
DTEND;TZID=Europe/London:20271121T210000
DTSTAMP:20260420T215632
CREATED:20260226T131934Z
LAST-MODIFIED:20260226T140724Z
UID:10000613-1826823600-1826830800@harbertonfordvillagehall.co.uk
SUMMARY:Skittles (Every Sunday Evening)
DESCRIPTION:All are welcome. \nCost: £2 cash (inc. coffee/tea & biscuits). Info: John (732588).
URL:https://harbertonfordvillagehall.co.uk/event/skittles-every-sunday-evening/2027-11-21/
LOCATION:Harbertonford Village Hall\, Harbertonford\, Devon\, United Kingdom
CATEGORIES:Public
ATTACH;FMTTYPE=image/jpeg:https://harbertonfordvillagehall.co.uk/wp-content/uploads/2023/02/WSkittles.jpg
END:VEVENT
BEGIN:VEVENT
DTSTART;TZID=Europe/London:20271126T193000
DTEND;TZID=Europe/London:20271126T230000
DTSTAMP:20260420T215632
CREATED:20260226T123253Z
LAST-MODIFIED:20260331T112139Z
UID:10000092-1827257400-1827270000@harbertonfordvillagehall.co.uk
SUMMARY:Village Bar (Friday Nights)
DESCRIPTION:A reminder that the Village Hall bar is open every Friday from 7.30 PM.  All welcome.\nThe bar can now accept card payments as well as cash
URL:https://harbertonfordvillagehall.co.uk/event/village-bar-friday-nights/2027-11-26/
LOCATION:Harbertonford Village Hall\, Harbertonford\, Devon\, United Kingdom
CATEGORIES:Public
ATTACH;FMTTYPE=image/webp:https://harbertonfordvillagehall.co.uk/wp-content/uploads/2026/02/bar-nightbarnight-16-copy.webp
END:VEVENT
BEGIN:VEVENT
DTSTART;TZID=Europe/London:20271128T190000
DTEND;TZID=Europe/London:20271128T210000
DTSTAMP:20260420T215632
CREATED:20260226T131934Z
LAST-MODIFIED:20260226T140724Z
UID:10000614-1827428400-1827435600@harbertonfordvillagehall.co.uk
SUMMARY:Skittles (Every Sunday Evening)
DESCRIPTION:All are welcome. \nCost: £2 cash (inc. coffee/tea & biscuits). Info: John (732588).
URL:https://harbertonfordvillagehall.co.uk/event/skittles-every-sunday-evening/2027-11-28/
LOCATION:Harbertonford Village Hall\, Harbertonford\, Devon\, United Kingdom
CATEGORIES:Public
ATTACH;FMTTYPE=image/jpeg:https://harbertonfordvillagehall.co.uk/wp-content/uploads/2023/02/WSkittles.jpg
END:VEVENT
END:VCALENDAR