BEGIN:VCALENDAR
VERSION:2.0
PRODID:-//Harbertonford Village Hall - ECPv6.15.20//NONSGML v1.0//EN
CALSCALE:GREGORIAN
METHOD:PUBLISH
X-ORIGINAL-URL:https://harbertonfordvillagehall.co.uk
X-WR-CALDESC:Events for Harbertonford Village Hall
REFRESH-INTERVAL;VALUE=DURATION:PT1H
X-Robots-Tag:noindex
X-PUBLISHED-TTL:PT1H
BEGIN:VTIMEZONE
TZID:Europe/London
BEGIN:DAYLIGHT
TZOFFSETFROM:+0000
TZOFFSETTO:+0100
TZNAME:BST
DTSTART:20260329T010000
END:DAYLIGHT
BEGIN:STANDARD
TZOFFSETFROM:+0100
TZOFFSETTO:+0000
TZNAME:GMT
DTSTART:20261025T010000
END:STANDARD
BEGIN:DAYLIGHT
TZOFFSETFROM:+0000
TZOFFSETTO:+0100
TZNAME:BST
DTSTART:20270328T010000
END:DAYLIGHT
BEGIN:STANDARD
TZOFFSETFROM:+0100
TZOFFSETTO:+0000
TZNAME:GMT
DTSTART:20271031T010000
END:STANDARD
BEGIN:DAYLIGHT
TZOFFSETFROM:+0000
TZOFFSETTO:+0100
TZNAME:BST
DTSTART:20280326T010000
END:DAYLIGHT
BEGIN:STANDARD
TZOFFSETFROM:+0100
TZOFFSETTO:+0000
TZNAME:GMT
DTSTART:20281029T010000
END:STANDARD
END:VTIMEZONE
BEGIN:VEVENT
DTSTART;TZID=Europe/London:20270801T190000
DTEND;TZID=Europe/London:20270801T210000
DTSTAMP:20260420T100905
CREATED:20260226T131934Z
LAST-MODIFIED:20260226T140724Z
UID:10000597-1817146800-1817154000@harbertonfordvillagehall.co.uk
SUMMARY:Skittles (Every Sunday Evening)
DESCRIPTION:All are welcome. \nCost: £2 cash (inc. coffee/tea & biscuits). Info: John (732588).
URL:https://harbertonfordvillagehall.co.uk/event/skittles-every-sunday-evening/2027-08-01/
LOCATION:Harbertonford Village Hall\, Harbertonford\, Devon\, United Kingdom
CATEGORIES:Public
ATTACH;FMTTYPE=image/jpeg:https://harbertonfordvillagehall.co.uk/wp-content/uploads/2023/02/WSkittles.jpg
END:VEVENT
BEGIN:VEVENT
DTSTART;TZID=Europe/London:20270806T193000
DTEND;TZID=Europe/London:20270806T230000
DTSTAMP:20260420T100905
CREATED:20260226T123253Z
LAST-MODIFIED:20260331T112139Z
UID:10000076-1817580600-1817593200@harbertonfordvillagehall.co.uk
SUMMARY:Village Bar (Friday Nights)
DESCRIPTION:A reminder that the Village Hall bar is open every Friday from 7.30 PM.  All welcome.\nThe bar can now accept card payments as well as cash
URL:https://harbertonfordvillagehall.co.uk/event/village-bar-friday-nights/2027-08-06/
LOCATION:Harbertonford Village Hall\, Harbertonford\, Devon\, United Kingdom
CATEGORIES:Public
ATTACH;FMTTYPE=image/webp:https://harbertonfordvillagehall.co.uk/wp-content/uploads/2026/02/bar-nightbarnight-16-copy.webp
END:VEVENT
BEGIN:VEVENT
DTSTART;TZID=Europe/London:20270808T190000
DTEND;TZID=Europe/London:20270808T210000
DTSTAMP:20260420T100905
CREATED:20260226T131934Z
LAST-MODIFIED:20260226T140724Z
UID:10000598-1817751600-1817758800@harbertonfordvillagehall.co.uk
SUMMARY:Skittles (Every Sunday Evening)
DESCRIPTION:All are welcome. \nCost: £2 cash (inc. coffee/tea & biscuits). Info: John (732588).
URL:https://harbertonfordvillagehall.co.uk/event/skittles-every-sunday-evening/2027-08-08/
LOCATION:Harbertonford Village Hall\, Harbertonford\, Devon\, United Kingdom
CATEGORIES:Public
ATTACH;FMTTYPE=image/jpeg:https://harbertonfordvillagehall.co.uk/wp-content/uploads/2023/02/WSkittles.jpg
END:VEVENT
BEGIN:VEVENT
DTSTART;TZID=Europe/London:20270813T193000
DTEND;TZID=Europe/London:20270813T230000
DTSTAMP:20260420T100905
CREATED:20260226T123253Z
LAST-MODIFIED:20260331T112139Z
UID:10000077-1818185400-1818198000@harbertonfordvillagehall.co.uk
SUMMARY:Village Bar (Friday Nights)
DESCRIPTION:A reminder that the Village Hall bar is open every Friday from 7.30 PM.  All welcome.\nThe bar can now accept card payments as well as cash
URL:https://harbertonfordvillagehall.co.uk/event/village-bar-friday-nights/2027-08-13/
LOCATION:Harbertonford Village Hall\, Harbertonford\, Devon\, United Kingdom
CATEGORIES:Public
ATTACH;FMTTYPE=image/webp:https://harbertonfordvillagehall.co.uk/wp-content/uploads/2026/02/bar-nightbarnight-16-copy.webp
END:VEVENT
BEGIN:VEVENT
DTSTART;TZID=Europe/London:20270815T190000
DTEND;TZID=Europe/London:20270815T210000
DTSTAMP:20260420T100905
CREATED:20260226T131934Z
LAST-MODIFIED:20260226T140724Z
UID:10000599-1818356400-1818363600@harbertonfordvillagehall.co.uk
SUMMARY:Skittles (Every Sunday Evening)
DESCRIPTION:All are welcome. \nCost: £2 cash (inc. coffee/tea & biscuits). Info: John (732588).
URL:https://harbertonfordvillagehall.co.uk/event/skittles-every-sunday-evening/2027-08-15/
LOCATION:Harbertonford Village Hall\, Harbertonford\, Devon\, United Kingdom
CATEGORIES:Public
ATTACH;FMTTYPE=image/jpeg:https://harbertonfordvillagehall.co.uk/wp-content/uploads/2023/02/WSkittles.jpg
END:VEVENT
BEGIN:VEVENT
DTSTART;TZID=Europe/London:20270820T193000
DTEND;TZID=Europe/London:20270820T230000
DTSTAMP:20260420T100905
CREATED:20260226T123253Z
LAST-MODIFIED:20260331T112139Z
UID:10000078-1818790200-1818802800@harbertonfordvillagehall.co.uk
SUMMARY:Village Bar (Friday Nights)
DESCRIPTION:A reminder that the Village Hall bar is open every Friday from 7.30 PM.  All welcome.\nThe bar can now accept card payments as well as cash
URL:https://harbertonfordvillagehall.co.uk/event/village-bar-friday-nights/2027-08-20/
LOCATION:Harbertonford Village Hall\, Harbertonford\, Devon\, United Kingdom
CATEGORIES:Public
ATTACH;FMTTYPE=image/webp:https://harbertonfordvillagehall.co.uk/wp-content/uploads/2026/02/bar-nightbarnight-16-copy.webp
END:VEVENT
BEGIN:VEVENT
DTSTART;TZID=Europe/London:20270822T190000
DTEND;TZID=Europe/London:20270822T210000
DTSTAMP:20260420T100905
CREATED:20260226T131934Z
LAST-MODIFIED:20260226T140724Z
UID:10000600-1818961200-1818968400@harbertonfordvillagehall.co.uk
SUMMARY:Skittles (Every Sunday Evening)
DESCRIPTION:All are welcome. \nCost: £2 cash (inc. coffee/tea & biscuits). Info: John (732588).
URL:https://harbertonfordvillagehall.co.uk/event/skittles-every-sunday-evening/2027-08-22/
LOCATION:Harbertonford Village Hall\, Harbertonford\, Devon\, United Kingdom
CATEGORIES:Public
ATTACH;FMTTYPE=image/jpeg:https://harbertonfordvillagehall.co.uk/wp-content/uploads/2023/02/WSkittles.jpg
END:VEVENT
BEGIN:VEVENT
DTSTART;TZID=Europe/London:20270827T193000
DTEND;TZID=Europe/London:20270827T230000
DTSTAMP:20260420T100905
CREATED:20260226T123253Z
LAST-MODIFIED:20260331T112139Z
UID:10000079-1819395000-1819407600@harbertonfordvillagehall.co.uk
SUMMARY:Village Bar (Friday Nights)
DESCRIPTION:A reminder that the Village Hall bar is open every Friday from 7.30 PM.  All welcome.\nThe bar can now accept card payments as well as cash
URL:https://harbertonfordvillagehall.co.uk/event/village-bar-friday-nights/2027-08-27/
LOCATION:Harbertonford Village Hall\, Harbertonford\, Devon\, United Kingdom
CATEGORIES:Public
ATTACH;FMTTYPE=image/webp:https://harbertonfordvillagehall.co.uk/wp-content/uploads/2026/02/bar-nightbarnight-16-copy.webp
END:VEVENT
BEGIN:VEVENT
DTSTART;TZID=Europe/London:20270829T190000
DTEND;TZID=Europe/London:20270829T210000
DTSTAMP:20260420T100905
CREATED:20260226T131934Z
LAST-MODIFIED:20260226T140724Z
UID:10000601-1819566000-1819573200@harbertonfordvillagehall.co.uk
SUMMARY:Skittles (Every Sunday Evening)
DESCRIPTION:All are welcome. \nCost: £2 cash (inc. coffee/tea & biscuits). Info: John (732588).
URL:https://harbertonfordvillagehall.co.uk/event/skittles-every-sunday-evening/2027-08-29/
LOCATION:Harbertonford Village Hall\, Harbertonford\, Devon\, United Kingdom
CATEGORIES:Public
ATTACH;FMTTYPE=image/jpeg:https://harbertonfordvillagehall.co.uk/wp-content/uploads/2023/02/WSkittles.jpg
END:VEVENT
END:VCALENDAR