BEGIN:VCALENDAR
VERSION:2.0
PRODID:-//Harbertonford Village Hall - ECPv6.15.20//NONSGML v1.0//EN
CALSCALE:GREGORIAN
METHOD:PUBLISH
X-WR-CALNAME:Harbertonford Village Hall
X-ORIGINAL-URL:https://harbertonfordvillagehall.co.uk
X-WR-CALDESC:Events for Harbertonford Village Hall
REFRESH-INTERVAL;VALUE=DURATION:PT1H
X-Robots-Tag:noindex
X-PUBLISHED-TTL:PT1H
BEGIN:VTIMEZONE
TZID:Europe/London
BEGIN:DAYLIGHT
TZOFFSETFROM:+0000
TZOFFSETTO:+0100
TZNAME:BST
DTSTART:20260329T010000
END:DAYLIGHT
BEGIN:STANDARD
TZOFFSETFROM:+0100
TZOFFSETTO:+0000
TZNAME:GMT
DTSTART:20261025T010000
END:STANDARD
BEGIN:DAYLIGHT
TZOFFSETFROM:+0000
TZOFFSETTO:+0100
TZNAME:BST
DTSTART:20270328T010000
END:DAYLIGHT
BEGIN:STANDARD
TZOFFSETFROM:+0100
TZOFFSETTO:+0000
TZNAME:GMT
DTSTART:20271031T010000
END:STANDARD
BEGIN:DAYLIGHT
TZOFFSETFROM:+0000
TZOFFSETTO:+0100
TZNAME:BST
DTSTART:20280326T010000
END:DAYLIGHT
BEGIN:STANDARD
TZOFFSETFROM:+0100
TZOFFSETTO:+0000
TZNAME:GMT
DTSTART:20281029T010000
END:STANDARD
END:VTIMEZONE
BEGIN:VEVENT
DTSTART;TZID=Europe/London:20270305T193000
DTEND;TZID=Europe/London:20270305T230000
DTSTAMP:20260420T004608
CREATED:20260226T123253Z
LAST-MODIFIED:20260331T112139Z
UID:10000054-1804275000-1804287600@harbertonfordvillagehall.co.uk
SUMMARY:Village Bar (Friday Nights)
DESCRIPTION:A reminder that the Village Hall bar is open every Friday from 7.30 PM.  All welcome.\nThe bar can now accept card payments as well as cash
URL:https://harbertonfordvillagehall.co.uk/event/village-bar-friday-nights/2027-03-05/
LOCATION:Harbertonford Village Hall\, Harbertonford\, Devon\, United Kingdom
CATEGORIES:Public
ATTACH;FMTTYPE=image/webp:https://harbertonfordvillagehall.co.uk/wp-content/uploads/2026/02/bar-nightbarnight-16-copy.webp
END:VEVENT
BEGIN:VEVENT
DTSTART;TZID=Europe/London:20270307T190000
DTEND;TZID=Europe/London:20270307T210000
DTSTAMP:20260420T004608
CREATED:20260226T131934Z
LAST-MODIFIED:20260226T140724Z
UID:10000576-1804446000-1804453200@harbertonfordvillagehall.co.uk
SUMMARY:Skittles (Every Sunday Evening)
DESCRIPTION:All are welcome. \nCost: £2 cash (inc. coffee/tea & biscuits). Info: John (732588).
URL:https://harbertonfordvillagehall.co.uk/event/skittles-every-sunday-evening/2027-03-07/
LOCATION:Harbertonford Village Hall\, Harbertonford\, Devon\, United Kingdom
CATEGORIES:Public
ATTACH;FMTTYPE=image/jpeg:https://harbertonfordvillagehall.co.uk/wp-content/uploads/2023/02/WSkittles.jpg
END:VEVENT
BEGIN:VEVENT
DTSTART;TZID=Europe/London:20270312T193000
DTEND;TZID=Europe/London:20270312T230000
DTSTAMP:20260420T004608
CREATED:20260226T123253Z
LAST-MODIFIED:20260331T112139Z
UID:10000055-1804879800-1804892400@harbertonfordvillagehall.co.uk
SUMMARY:Village Bar (Friday Nights)
DESCRIPTION:A reminder that the Village Hall bar is open every Friday from 7.30 PM.  All welcome.\nThe bar can now accept card payments as well as cash
URL:https://harbertonfordvillagehall.co.uk/event/village-bar-friday-nights/2027-03-12/
LOCATION:Harbertonford Village Hall\, Harbertonford\, Devon\, United Kingdom
CATEGORIES:Public
ATTACH;FMTTYPE=image/webp:https://harbertonfordvillagehall.co.uk/wp-content/uploads/2026/02/bar-nightbarnight-16-copy.webp
END:VEVENT
BEGIN:VEVENT
DTSTART;TZID=Europe/London:20270314T190000
DTEND;TZID=Europe/London:20270314T210000
DTSTAMP:20260420T004608
CREATED:20260226T131934Z
LAST-MODIFIED:20260226T140724Z
UID:10000577-1805050800-1805058000@harbertonfordvillagehall.co.uk
SUMMARY:Skittles (Every Sunday Evening)
DESCRIPTION:All are welcome. \nCost: £2 cash (inc. coffee/tea & biscuits). Info: John (732588).
URL:https://harbertonfordvillagehall.co.uk/event/skittles-every-sunday-evening/2027-03-14/
LOCATION:Harbertonford Village Hall\, Harbertonford\, Devon\, United Kingdom
CATEGORIES:Public
ATTACH;FMTTYPE=image/jpeg:https://harbertonfordvillagehall.co.uk/wp-content/uploads/2023/02/WSkittles.jpg
END:VEVENT
BEGIN:VEVENT
DTSTART;TZID=Europe/London:20270319T193000
DTEND;TZID=Europe/London:20270319T230000
DTSTAMP:20260420T004608
CREATED:20260226T123253Z
LAST-MODIFIED:20260331T112139Z
UID:10000056-1805484600-1805497200@harbertonfordvillagehall.co.uk
SUMMARY:Village Bar (Friday Nights)
DESCRIPTION:A reminder that the Village Hall bar is open every Friday from 7.30 PM.  All welcome.\nThe bar can now accept card payments as well as cash
URL:https://harbertonfordvillagehall.co.uk/event/village-bar-friday-nights/2027-03-19/
LOCATION:Harbertonford Village Hall\, Harbertonford\, Devon\, United Kingdom
CATEGORIES:Public
ATTACH;FMTTYPE=image/webp:https://harbertonfordvillagehall.co.uk/wp-content/uploads/2026/02/bar-nightbarnight-16-copy.webp
END:VEVENT
BEGIN:VEVENT
DTSTART;TZID=Europe/London:20270321T190000
DTEND;TZID=Europe/London:20270321T210000
DTSTAMP:20260420T004608
CREATED:20260226T131934Z
LAST-MODIFIED:20260226T140724Z
UID:10000578-1805655600-1805662800@harbertonfordvillagehall.co.uk
SUMMARY:Skittles (Every Sunday Evening)
DESCRIPTION:All are welcome. \nCost: £2 cash (inc. coffee/tea & biscuits). Info: John (732588).
URL:https://harbertonfordvillagehall.co.uk/event/skittles-every-sunday-evening/2027-03-21/
LOCATION:Harbertonford Village Hall\, Harbertonford\, Devon\, United Kingdom
CATEGORIES:Public
ATTACH;FMTTYPE=image/jpeg:https://harbertonfordvillagehall.co.uk/wp-content/uploads/2023/02/WSkittles.jpg
END:VEVENT
BEGIN:VEVENT
DTSTART;TZID=Europe/London:20270326T193000
DTEND;TZID=Europe/London:20270326T230000
DTSTAMP:20260420T004608
CREATED:20260226T123253Z
LAST-MODIFIED:20260331T112139Z
UID:10000057-1806089400-1806102000@harbertonfordvillagehall.co.uk
SUMMARY:Village Bar (Friday Nights)
DESCRIPTION:A reminder that the Village Hall bar is open every Friday from 7.30 PM.  All welcome.\nThe bar can now accept card payments as well as cash
URL:https://harbertonfordvillagehall.co.uk/event/village-bar-friday-nights/2027-03-26/
LOCATION:Harbertonford Village Hall\, Harbertonford\, Devon\, United Kingdom
CATEGORIES:Public
ATTACH;FMTTYPE=image/webp:https://harbertonfordvillagehall.co.uk/wp-content/uploads/2026/02/bar-nightbarnight-16-copy.webp
END:VEVENT
BEGIN:VEVENT
DTSTART;TZID=Europe/London:20270328T190000
DTEND;TZID=Europe/London:20270328T210000
DTSTAMP:20260420T004608
CREATED:20260226T131934Z
LAST-MODIFIED:20260226T140724Z
UID:10000579-1806260400-1806267600@harbertonfordvillagehall.co.uk
SUMMARY:Skittles (Every Sunday Evening)
DESCRIPTION:All are welcome. \nCost: £2 cash (inc. coffee/tea & biscuits). Info: John (732588).
URL:https://harbertonfordvillagehall.co.uk/event/skittles-every-sunday-evening/2027-03-28/
LOCATION:Harbertonford Village Hall\, Harbertonford\, Devon\, United Kingdom
CATEGORIES:Public
ATTACH;FMTTYPE=image/jpeg:https://harbertonfordvillagehall.co.uk/wp-content/uploads/2023/02/WSkittles.jpg
END:VEVENT
END:VCALENDAR